BEGIN:VCALENDAR
VERSION:2.0
PRODID:-//eventon.com NONSGML v1.0//EN
CALSCALE:GREGORIAN
METHOD:PUBLISH
BEGIN:VEVENT
UID:69e4d3ef6b656
DTSTAMP:20260419T130903Z
DTSTART:20250821T230000Z
DTEND:20250822T010000Z
LOCATION:Robinson Nature Center 6692 Cedar Ln
SUMMARY:HAL General Meeting\,  August 2025
DESCRIPTION:\nhttps://howardastro.org/events/hal-general-meeting-august-202
 5/
URL:https://howardastro.org/events/hal-general-meeting-august-2025/
END:VEVENT
END:VCALENDAR