BEGIN:VCALENDAR
VERSION:2.0
PRODID:-//eventon.com NONSGML v1.0//EN
CALSCALE:GREGORIAN
METHOD:PUBLISH
BEGIN:VEVENT
UID:69e9d6f11669a
DTSTAMP:20260423T082313Z
DTSTART:20241105T000000Z
DTEND:20241105T011500Z
LOCATION:
SUMMARY:HAL Planning Meeting
DESCRIPTION:HAL Planning Meeting\nhttps://howardastro.org/events/hal-planni
 ng-meeting-7/
URL:https://howardastro.org/events/hal-planning-meeting-7/
END:VEVENT
END:VCALENDAR